BEGIN:VCALENDAR
VERSION:2.0
PRODID:-//Chappaqua Performing Arts Center - ECPv6.15.13.1//NONSGML v1.0//EN
CALSCALE:GREGORIAN
METHOD:PUBLISH
X-WR-CALNAME:Chappaqua Performing Arts Center
X-ORIGINAL-URL:https://chappaquapac.org
X-WR-CALDESC:Events for Chappaqua Performing Arts Center
REFRESH-INTERVAL;VALUE=DURATION:PT1H
X-Robots-Tag:noindex
X-PUBLISHED-TTL:PT1H
BEGIN:VTIMEZONE
TZID:America/New_York
BEGIN:DAYLIGHT
TZOFFSETFROM:-0500
TZOFFSETTO:-0400
TZNAME:EDT
DTSTART:20170312T070000
END:DAYLIGHT
BEGIN:STANDARD
TZOFFSETFROM:-0400
TZOFFSETTO:-0500
TZNAME:EST
DTSTART:20171105T060000
END:STANDARD
BEGIN:DAYLIGHT
TZOFFSETFROM:-0500
TZOFFSETTO:-0400
TZNAME:EDT
DTSTART:20180311T070000
END:DAYLIGHT
BEGIN:STANDARD
TZOFFSETFROM:-0400
TZOFFSETTO:-0500
TZNAME:EST
DTSTART:20181104T060000
END:STANDARD
BEGIN:DAYLIGHT
TZOFFSETFROM:-0500
TZOFFSETTO:-0400
TZNAME:EDT
DTSTART:20190310T070000
END:DAYLIGHT
BEGIN:STANDARD
TZOFFSETFROM:-0400
TZOFFSETTO:-0500
TZNAME:EST
DTSTART:20191103T060000
END:STANDARD
END:VTIMEZONE
BEGIN:VEVENT
DTSTART;TZID=America/New_York:20181015T163000
DTEND;TZID=America/New_York:20181015T190000
DTSTAMP:20260423T192429
CREATED:20180914T170919Z
LAST-MODIFIED:20181011T171210Z
UID:864-1539621000-1539630000@chappaquapac.org
SUMMARY:Wicked Workshop
DESCRIPTION:Wicked Workshop (Monday\, October 15\, 4:30pm-6:30pm): Exclusive opportunity for young theater lovers to Join two current Broadway actors who are former cast members of Wicked! Arielle Jacobs whose Broadway credits include; Jasmine in Aladdin (current)\, Wicked\, In the Heights and Rent and Alicia Albright whose Broadway credits include dance captain in Frozen (current) and Dance Captain in Wicked\, as well as national tours of All Shook Up and Seven Brides for Seven Brothers. Participants will learn a Wicked song and dance combo from Broadway cast members and two professional music directors. The session culminates with the students performing on stage for parents and friends and a Q&A session with the actors about their experience to educate and inspire the next generation of performers and theater lovers.
URL:https://chappaquapac.org/upcoming-event/wicked-workshop/
LOCATION:Chappaqua PAC\, 480 North Bedford Road\, Chappaqua\, NY\, 10514\, United States
CATEGORIES:Slider
ATTACH;FMTTYPE=image/jpeg:https://chappaquapac.org/wp-content/uploads/2018/09/Wicked-Workshop-HEader.jpg
END:VEVENT
BEGIN:VEVENT
DTSTART;TZID=America/New_York:20181014T170000
DTEND;TZID=America/New_York:20181014T190000
DTSTAMP:20260423T192429
CREATED:20180918T162524Z
LAST-MODIFIED:20180918T163234Z
UID:887-1539536400-1539543600@chappaquapac.org
SUMMARY:Jordan Matter Presentation & Book Launch
DESCRIPTION:Scattered Books will be hosting a live presentation by famed dance photographer (and social media legend) Jordan Matter and launching his new book\, Born to Dance.  Jordan’s eclectic photography work (and 10-minute challenges) are known worldwide and we are thrilled to host his very first public appearance in conjunction with his new book!  All tickets come with a seat to the inspiring live presentation plus a signed book and a selfie/photo with Jordan. VIP ticket-holders will enjoy a private meet & greet prior to the presentation at 4:30 and front row seating. Additional copies of his books (Born to Dance AND Dancers Among Us)  will be available for purchase & signing at the event. You can preview Jordan’s amazing photography on his Instagram page: https://www.instagram.com/jordanmatter/?hl=en and also on YouTube: https://www.youtube.com/user/jordanmatter. Questions can be directed to info@scatteredbooks.com
URL:https://chappaquapac.org/upcoming-event/jordan-matter-presentation-book-launch/
LOCATION:Chappaqua PAC\, 480 North Bedford Road\, Chappaqua\, NY\, 10514\, United States
CATEGORIES:Slider
ATTACH;FMTTYPE=image/jpeg:https://chappaquapac.org/wp-content/uploads/2018/09/scattered-books.jpg
ORGANIZER;CN="Scattered Books":MAILTO:info@scatteredbooks.com
END:VEVENT
BEGIN:VEVENT
DTSTART;TZID=America/New_York:20181013T140000
DTEND;TZID=America/New_York:20181013T150000
DTSTAMP:20260423T192429
CREATED:20180914T175005Z
LAST-MODIFIED:20180921T165540Z
UID:883-1539439200-1539442800@chappaquapac.org
SUMMARY:United States Air Force Heritage Winds Quintet
DESCRIPTION:The ensemble embraces the full range of the quintet repertoire.  It is a component of the U.S. Air Force Heritage of America Band. \nAs professional Airman-musicians\, the members of Heritage Winds are dedicated to using the power of music to honor our veterans\, inspire patriotism and communicate the Air Force story. \nSat. Oc.t 13 @ 2PM \nSponsored: The Town of New Castle and The Chappaqua Library \nAll library programs are free and open to the public.
URL:https://chappaquapac.org/upcoming-event/united-states-air-force-heritage-winds-quintet/
LOCATION:Chappaqua PAC\, 480 North Bedford Road\, Chappaqua\, NY\, 10514\, United States
CATEGORIES:Slider
ATTACH;FMTTYPE=image/jpeg:https://chappaquapac.org/wp-content/uploads/2018/09/HeritageWinds1480x870px.jpg
END:VEVENT
BEGIN:VEVENT
DTSTART;TZID=America/New_York:20181006T110000
DTEND;TZID=America/New_York:20181006T143000
DTSTAMP:20260423T192429
CREATED:20180914T145849Z
LAST-MODIFIED:20180921T183245Z
UID:860-1538823600-1538836200@chappaquapac.org
SUMMARY:Free Kick-Off Workshop and Open House
DESCRIPTION:FREE Musical Theater Workshop Open House (Saturday\, October 6\, 11am-12pm for ages 3-6 and 12:30-2:30pm for ages 7-16): Come learn firsthand about all the wonderful things happening for kids at ChappPAC this fall. Join Westchester’s finest musical theatre instructors on-stage and learn about all the opportunities for kids this fall at ChappPAC. From 11am-12pm\, students ages 3-6 will learn a song from Peter Pan and perform for parents and friends on stage at the end of the workshop. From 12:30-2:30 students ages 7-11 and 12-16 will learn and perform a song and dance from Hamilton.
URL:https://chappaquapac.org/upcoming-event/free-kick-off-workshop-and-open-house/
LOCATION:Chappaqua PAC\, 480 North Bedford Road\, Chappaqua\, NY\, 10514\, United States
CATEGORIES:Slider
ATTACH;FMTTYPE=image/jpeg:https://chappaquapac.org/wp-content/uploads/2018/09/Free-Workshop.jpg
END:VEVENT
BEGIN:VEVENT
DTSTART;TZID=America/New_York:20180922T200000
DTEND;TZID=America/New_York:20180922T220000
DTSTAMP:20260423T192429
CREATED:20180124T222827Z
LAST-MODIFIED:20180804T163651Z
UID:734-1537646400-1537653600@chappaquapac.org
SUMMARY:Sloan Wainwright with Rebecca Haviland
DESCRIPTION:Sloan Wainwright: Defying standard categorization\, singer/songwriter Sloan Wainwright\, consistently demonstrates her easy command of a variety of American musical styles — pop\, folk\, jazz and blues — held together by the melodious tone of her rich contralto\, with the end result being a unique and soulful hybrid. \nHer family tree (brother and folk-music luminary Loudon Wainwright\, nephew Rufus Wainwright\, nieces Martha Wainwright and Lucy Wainwright Roche) reads like a who’s who of contemporary folk music. Sloan’s incredible gift is not only her unique songwriting ability but also her dramatically voiced rendition of original songs. \n“She’s folk influenced\, but the real star here is her voice. Warm and smoky and smooth\, it makes her earthy\, ominous lyrics seem all the more intense.” \nWith a solid and impressive discography of 10 original CD releases to her credit\, Sloan continues to write\, sing and perform live and has won two songwriting awards at the annual EmPower Posi Music Awards.  In addition\, Sloan has written numerous musical compositions for theater and dance and teaches at many of the best-known master songwriter series and workshops. \nSloan’s open spirit and first-hand experience is welcome –year after year– in the musical classrooms of such prestigious song camps as Richard Thompson’s Frets and Refrains\, The Swannanoa Gathering\, SummerSongs\, WUMB Radio’s Summer Acoustic Music Week (SAMW)\, Winter Acoustic Music Weekend (WAMW)\, Moab Folk Camp\, Cape Cod Songwriting Retreat and emPower Music & Arts Totally Cool Song School \nRebecca Haviland: Rebecca Haviland and Whiskey Heart is a New York based soulful Americana band. They have been playing together for 6 years and is compiled of veteran session and touring musicians Chris Anderson (Martin Sexton\, Post Modern Jukebox)\, Todd Caldwell (Crosby Still & Nash)\, and Kenny Shaw (Dispatch). After releasing their debut\, self titled record in 2012\, Rebecca and the band recently headed back into the studio to make their second record. Recorded at Atomic Sound in Brooklyn\, NY with producer Don DiLego (Hollis Brown\, Jesse Malin)\, this new set of tunes reflects Rebecca’s experiences on the road\, encompassing American Roots music.
URL:https://chappaquapac.org/upcoming-event/sloan-wainwright-and-rebecca-haviland/
LOCATION:Chappaqua PAC\, 480 North Bedford Road\, Chappaqua\, NY\, 10514\, United States
CATEGORIES:Concerts,Slider
ATTACH;FMTTYPE=image/jpeg:https://chappaquapac.org/wp-content/uploads/2018/01/Sloan-solo.jpg
ORGANIZER;CN="Soup's On Entertainment":MAILTO:soupsonentertainment@gmail.com
END:VEVENT
BEGIN:VEVENT
DTSTART;TZID=America/New_York:20180630T200000
DTEND;TZID=America/New_York:20180630T210000
DTSTAMP:20260423T192429
CREATED:20180515T154023Z
LAST-MODIFIED:20180620T165352Z
UID:832-1530388800-1530392400@chappaquapac.org
SUMMARY:An Evening With Robert Klein
DESCRIPTION:Iconic comedian & Broadway star Robert Klein has entertained audiences for more than 40 years and he continues to have an acclaimed career in comedy\, on Broadway\, on television\, and in film.\n\n\n\n \n\n\n \n\n\nHe’s been nominated twice for Grammy Awards for “Best Comedy Album of the Year” and his albums “Child of the Fifties” and “Mind Over Matter.” Last year Marshall Fine’s documentary movie Robert Klein Still Can’t stop his Leg was a top movie on Starz & his best selling book The Amorous Busboy of Decatur Avenue: A Child of the Fifties Looks Back is still a top seller.\n\n\n \n\n\nCurrently he can be seen on the hit TV show “Will & Grace” as Graces Father & more important\, he’s a very funny man!
URL:https://chappaquapac.org/upcoming-event/an-evening-with-robert-klein/
LOCATION:Chappaqua PAC\, 480 North Bedford Road\, Chappaqua\, NY\, 10514\, United States
CATEGORIES:Concerts,Slider
ATTACH;FMTTYPE=image/jpeg:https://chappaquapac.org/wp-content/uploads/2018/05/Robert-Klein-approved-headshot-scaled.jpg
ORGANIZER;CN="Soup's On Entertainment":MAILTO:soupsonentertainment@gmail.com
END:VEVENT
END:VCALENDAR