BEGIN:VCALENDAR
VERSION:2.0
PRODID:-//Chappaqua Performing Arts Center - ECPv6.15.13.1//NONSGML v1.0//EN
CALSCALE:GREGORIAN
METHOD:PUBLISH
X-WR-CALNAME:Chappaqua Performing Arts Center
X-ORIGINAL-URL:https://chappaquapac.org
X-WR-CALDESC:Events for Chappaqua Performing Arts Center
REFRESH-INTERVAL;VALUE=DURATION:PT1H
X-Robots-Tag:noindex
X-PUBLISHED-TTL:PT1H
BEGIN:VTIMEZONE
TZID:America/New_York
BEGIN:DAYLIGHT
TZOFFSETFROM:-0500
TZOFFSETTO:-0400
TZNAME:EDT
DTSTART:20250309T070000
END:DAYLIGHT
BEGIN:STANDARD
TZOFFSETFROM:-0400
TZOFFSETTO:-0500
TZNAME:EST
DTSTART:20251102T060000
END:STANDARD
BEGIN:DAYLIGHT
TZOFFSETFROM:-0500
TZOFFSETTO:-0400
TZNAME:EDT
DTSTART:20260308T070000
END:DAYLIGHT
BEGIN:STANDARD
TZOFFSETFROM:-0400
TZOFFSETTO:-0500
TZNAME:EST
DTSTART:20261101T060000
END:STANDARD
BEGIN:DAYLIGHT
TZOFFSETFROM:-0500
TZOFFSETTO:-0400
TZNAME:EDT
DTSTART:20270314T070000
END:DAYLIGHT
BEGIN:STANDARD
TZOFFSETFROM:-0400
TZOFFSETTO:-0500
TZNAME:EST
DTSTART:20271107T060000
END:STANDARD
END:VTIMEZONE
BEGIN:VEVENT
DTSTART;TZID=America/New_York:20260425T200000
DTEND;TZID=America/New_York:20260425T213000
DTSTAMP:20260425T125949
CREATED:20260302T194737Z
LAST-MODIFIED:20260303T174807Z
UID:2601-1777147200-1777152600@chappaquapac.org
SUMMARY:Mamma Mania!
DESCRIPTION:Purchase Tickets HERE\nExperience the ultimate ABBA tribute with Mamma Mania!\, bringing the Swedish super-group’s biggest hits to life. Presented by the Town of New Castle and PMG Presents\, this high-energy show features stellar musicians\, dazzling costumes\, and unforgettable hits like “Dancing Queen” and “Mamma Mia.” \nJoin us for an evening of music that showcases not only the incredible songs but also the joyful spirit of ABBA. Whether you’re a lifelong fan or new to their music\, this tribute promises to be an unforgettable experience filled with energy\, enthusiasm\, and plenty of dancing. Don’t miss this night of nostalgia and your chance to be part of an extraordinary celebration of ABBA!!  \nAbout the Band:\nMamma Mania! delivers an authentic\, electrifying experience\, featuring talented performers with credits from major touring productions. \nPurchase Tickets HERE\n  \n \nMore information visit Mammamaniatribute.com \nMamma Mania Tribute on Facebook  \nMamma Mania Instagram
URL:https://chappaquapac.org/upcoming-event/mamma-mania/
LOCATION:Chappaqua PAC\, 480 North Bedford Road\, Chappaqua\, NY\, 10514\, United States
ATTACH;FMTTYPE=image/jpeg:https://chappaquapac.org/wp-content/uploads/2026/03/PMG-ABBA1080X1350-e1772556706379.jpg
END:VEVENT
END:VCALENDAR